BEGIN:VCALENDAR
VERSION:2.0
PRODID:-//Heimat- und Wanderverein Brittheim e. V. - ECPv6.15.17.1//NONSGML v1.0//EN
CALSCALE:GREGORIAN
METHOD:PUBLISH
X-WR-CALNAME:Heimat- und Wanderverein Brittheim e. V.
X-ORIGINAL-URL:https://www.wanderverein-brittheim.de
X-WR-CALDESC:Veranstaltungen für Heimat- und Wanderverein Brittheim e. V.
REFRESH-INTERVAL;VALUE=DURATION:PT1H
X-Robots-Tag:noindex
X-PUBLISHED-TTL:PT1H
BEGIN:VTIMEZONE
TZID:Europe/Berlin
BEGIN:DAYLIGHT
TZOFFSETFROM:+0100
TZOFFSETTO:+0200
TZNAME:CEST
DTSTART:20240331T010000
END:DAYLIGHT
BEGIN:STANDARD
TZOFFSETFROM:+0200
TZOFFSETTO:+0100
TZNAME:CET
DTSTART:20241027T010000
END:STANDARD
BEGIN:DAYLIGHT
TZOFFSETFROM:+0100
TZOFFSETTO:+0200
TZNAME:CEST
DTSTART:20250330T010000
END:DAYLIGHT
BEGIN:STANDARD
TZOFFSETFROM:+0200
TZOFFSETTO:+0100
TZNAME:CET
DTSTART:20251026T010000
END:STANDARD
BEGIN:DAYLIGHT
TZOFFSETFROM:+0100
TZOFFSETTO:+0200
TZNAME:CEST
DTSTART:20260329T010000
END:DAYLIGHT
BEGIN:STANDARD
TZOFFSETFROM:+0200
TZOFFSETTO:+0100
TZNAME:CET
DTSTART:20261025T010000
END:STANDARD
END:VTIMEZONE
BEGIN:VEVENT
DTSTART;VALUE=DATE:20250426
DTEND;VALUE=DATE:20250427
DTSTAMP:20260421T105547
CREATED:20250414T185210Z
LAST-MODIFIED:20250415T080535Z
UID:146-1745625600-1745711999@www.wanderverein-brittheim.de
SUMMARY:Sa. 26.04.2025 - Weitwanderung
DESCRIPTION:Am Samstag\, 26.04.2025 starten wir zu einer Rundwanderung. \nInfos:\nDie Tour hat eine Länge von 33 km bei 400m Höhenmetern und führt über Trichtingen nach Epfendorf\, ab dort auf dem Schlichemtalwanderweg nach Böhringen\, Rotenzimmern\, Täbingen\, Leidringen zurück nach Brittheim. \nHighlights: \n\n Schlichemklamm\nHerrliche Ausblicke auf die Schwäbische Alb\nIdyllische Wanderpfade\n\nTreffpunkt:\nUm 8:00 Uhr beim Bürgerhaus Brittheim \nGastwanderer sind herzlich eingeladen ! \nWichtige Hinweise:\nDie Strecke ist gut machbar aber festes Schuhwerk wird empfehlen.\nDie Abschlusseinkehr ist in der Pizzeria in Leidringen.\nRucksackvesper und ausreichend Getränke nicht vergessen !! \nAuf rege Beteiligung freuen sich \nKarl und Kevin
URL:https://www.wanderverein-brittheim.de/event/sa-26-04-2025-weitwanderung/
END:VEVENT
END:VCALENDAR