BEGIN:VCALENDAR
VERSION:2.0
PRODID:-//Heimat- und Wanderverein Brittheim e. V. - ECPv6.15.17.1//NONSGML v1.0//EN
CALSCALE:GREGORIAN
METHOD:PUBLISH
X-WR-CALNAME:Heimat- und Wanderverein Brittheim e. V.
X-ORIGINAL-URL:https://www.wanderverein-brittheim.de
X-WR-CALDESC:Veranstaltungen für Heimat- und Wanderverein Brittheim e. V.
REFRESH-INTERVAL;VALUE=DURATION:PT1H
X-Robots-Tag:noindex
X-PUBLISHED-TTL:PT1H
BEGIN:VTIMEZONE
TZID:Europe/Berlin
BEGIN:DAYLIGHT
TZOFFSETFROM:+0100
TZOFFSETTO:+0200
TZNAME:CEST
DTSTART:20240331T010000
END:DAYLIGHT
BEGIN:STANDARD
TZOFFSETFROM:+0200
TZOFFSETTO:+0100
TZNAME:CET
DTSTART:20241027T010000
END:STANDARD
BEGIN:DAYLIGHT
TZOFFSETFROM:+0100
TZOFFSETTO:+0200
TZNAME:CEST
DTSTART:20250330T010000
END:DAYLIGHT
BEGIN:STANDARD
TZOFFSETFROM:+0200
TZOFFSETTO:+0100
TZNAME:CET
DTSTART:20251026T010000
END:STANDARD
BEGIN:DAYLIGHT
TZOFFSETFROM:+0100
TZOFFSETTO:+0200
TZNAME:CEST
DTSTART:20260329T010000
END:DAYLIGHT
BEGIN:STANDARD
TZOFFSETFROM:+0200
TZOFFSETTO:+0100
TZNAME:CET
DTSTART:20261025T010000
END:STANDARD
END:VTIMEZONE
BEGIN:VEVENT
DTSTART;VALUE=DATE:20250713
DTEND;VALUE=DATE:20250714
DTSTAMP:20260421T060245
CREATED:20250418T140846Z
LAST-MODIFIED:20250706T100205Z
UID:185-1752364800-1752451199@www.wanderverein-brittheim.de
SUMMARY:13.07.2025 - Seniorenwanderung
DESCRIPTION:Seniorenwanderung am 13.07.2025 \nDie diesjährige Seniorenwanderung führen wir am Sonntag\, 13.07.2025\, durch.\nTreffpunkt ist um 14:00 Uhr beim Bürgerhaus Brittheim.\nWie gewohnt gibt es nach einer kurzen Wanderung noch ein gemütliches Beisammensein. \nWanderführer ist Armin Vosseler.
URL:https://www.wanderverein-brittheim.de/event/13-07-2025-seniorenwanderung/
END:VEVENT
BEGIN:VEVENT
DTSTART;VALUE=DATE:20250720
DTEND;VALUE=DATE:20250721
DTSTAMP:20260421T060245
CREATED:20250418T140914Z
LAST-MODIFIED:20250706T100254Z
UID:187-1752969600-1753055999@www.wanderverein-brittheim.de
SUMMARY:20.07.2025 - Barfußpark Hallwangen
DESCRIPTION:Ausflug Barfußpark Hallwangen amSonntag\, 20.07.2025 \nAm Sonntag 20.07.2025 machen wir einen Ausflug zum Barfußpark Hallwangen \nAbfahrt ist um 12:30 Uhr am Bürgerhaus Brittheim (55min Fahrt) \n– Strecke 2.4 km\, nicht kinderwagentauglich\n– Kosten für den Spint 1 €\, kostenpflichtiger Parkplatz\n– ab 4 Jahren empfohlen\n– Kiosk und WC vor Ort.\n– Findet bei Regen NICHT statt.\n– Handtuch und ggf. Ersatzkleidung für die Kids mitbringen. \nTraust Du dich mit deinen Füssen über viele bunte Glasscherben\, Steine\, Lehm oder durch das eiskalte Wasser zu gehen ?\nDann kommt mit uns mit in den Barfusspark !\nHier erwarten dich noch viele verschiedene Bodenbeläge\, die es zu erkunden gibt.\nAußerdem gibt es ein Erlebnisspielplatz\, eine Dschungel-Hängebrücke\, ein Bodentrampolin und vieles mehr. \nWir freuen uns wenn Du dabei bist. \nDinah & Sven Maier
URL:https://www.wanderverein-brittheim.de/event/20-07-2025-barfusspark-dornstetten/
END:VEVENT
END:VCALENDAR