BEGIN:VCALENDAR
VERSION:2.0
PRODID:-//Heimat- und Wanderverein Brittheim e. V. - ECPv6.15.17.1//NONSGML v1.0//EN
CALSCALE:GREGORIAN
METHOD:PUBLISH
X-ORIGINAL-URL:https://www.wanderverein-brittheim.de
X-WR-CALDESC:Veranstaltungen für Heimat- und Wanderverein Brittheim e. V.
REFRESH-INTERVAL;VALUE=DURATION:PT1H
X-Robots-Tag:noindex
X-PUBLISHED-TTL:PT1H
BEGIN:VTIMEZONE
TZID:Europe/Berlin
BEGIN:DAYLIGHT
TZOFFSETFROM:+0100
TZOFFSETTO:+0200
TZNAME:CEST
DTSTART:20240331T010000
END:DAYLIGHT
BEGIN:STANDARD
TZOFFSETFROM:+0200
TZOFFSETTO:+0100
TZNAME:CET
DTSTART:20241027T010000
END:STANDARD
BEGIN:DAYLIGHT
TZOFFSETFROM:+0100
TZOFFSETTO:+0200
TZNAME:CEST
DTSTART:20250330T010000
END:DAYLIGHT
BEGIN:STANDARD
TZOFFSETFROM:+0200
TZOFFSETTO:+0100
TZNAME:CET
DTSTART:20251026T010000
END:STANDARD
BEGIN:DAYLIGHT
TZOFFSETFROM:+0100
TZOFFSETTO:+0200
TZNAME:CEST
DTSTART:20260329T010000
END:DAYLIGHT
BEGIN:STANDARD
TZOFFSETFROM:+0200
TZOFFSETTO:+0100
TZNAME:CET
DTSTART:20261025T010000
END:STANDARD
END:VTIMEZONE
BEGIN:VEVENT
DTSTART;VALUE=DATE:20251004
DTEND;VALUE=DATE:20251005
DTSTAMP:20260421T010833
CREATED:20250418T141126Z
LAST-MODIFIED:20251004T075116Z
UID:193-1759536000-1759622399@www.wanderverein-brittheim.de
SUMMARY:04.10.2025 - Familienwanderung Keltertal - ABGESAGT
DESCRIPTION:UPDATE Sa. 04.10.2025 – 9:45 Uhr: \nAufgrund des Wetters wird die Wanderung abgesagt! \n  \nFamilienwanderung Keltertal am 04.10.25 \nTreffpunkt um 14.00 Uhr am Bürgerhaus Brittheim\, wo wir gemeinsam nach Vöhringen fahren.\nDie Wanderstrecke ist dann ca. 4 km. \nAnschließend grillen wir auf dem Spielplatz Keltertal (Verpflegung bitte selber mitbringen).\nBei schlechtem Wetter wird die Wanderung abgesagt. \nEure Wanderführer Michael\, Carmen\, Mats und Lina
URL:https://www.wanderverein-brittheim.de/event/04-10-2025-voehringen-tonauturm-grillplatz-keltertal/
END:VEVENT
BEGIN:VEVENT
DTSTART;VALUE=DATE:20251012
DTEND;VALUE=DATE:20251013
DTSTAMP:20260421T010833
CREATED:20251004T075223Z
LAST-MODIFIED:20251004T075223Z
UID:238-1760227200-1760313599@www.wanderverein-brittheim.de
SUMMARY:Wanderung nach Rosenfeld am 12.10.2025
DESCRIPTION:Wanderung nach Rosenfeld am 12.10.2025 \nHallo Wanderfreunde\,\nam kommenden Sonntag 12.10.2025 wollen wir auf Umwegen nach Rosenfeld in den Rosenhof wandern.\nDie Wanderung führt uns von Brittheim über Bickelsberg und durch das Bickelsberger Tal nach Rosenfeld. Hinter den Hochhäusern in Rosenfeld angekommen\, wandern wir weiter auf den Hornbühl hinter dem Sülzlehof. Hier haben wir immer wieder einen schönen Blick hinüber auf Rosenfeld und sehen durch die Bäume auch hinüber nach Heiligenzimmern. Der weitere Weg führt uns durch den Rosenfelder Wald weiter in Richtung Rosenfelder Weingärten und die Pfingsthalde. Beim durchwandern der Weingärten und der Pfingsthalde kommen wir auch am Generationen- und am Kunstpark vorbei\, bevor dann unsere Wanderung um ca. 17:00 Uhr im Rosenhof endet.\nWer nur die Runde durch die Weingärten mitwandern möchte\, muss einfach beim Rosenhof parken\, den Butzensteigleweg in Richtung Sülzlehof hoch laufen und bei der letzten Kreuzung treffen wir uns dann um ca. 15:30 Uhr. \nTreffpunkt: 13:00 Uhr am Bürgerhaus in Brittheim \nGastwanderer sind wie immer herzlich willkommen! \nEuer Wanderfüherer Jörg Hengsteler
URL:https://www.wanderverein-brittheim.de/event/wanderung-nach-rosenfeld-am-12-10-2025/
END:VEVENT
BEGIN:VEVENT
DTSTART;VALUE=DATE:20251019
DTEND;VALUE=DATE:20251020
DTSTAMP:20260421T010833
CREATED:20250418T141204Z
LAST-MODIFIED:20250418T141204Z
UID:195-1760832000-1760918399@www.wanderverein-brittheim.de
SUMMARY:19.10.2025 - Rundwanderweg Rosenfeld Weingärten-Sülzlehof
DESCRIPTION:Infos folgen…
URL:https://www.wanderverein-brittheim.de/event/19-10-2025-rundwanderweg-rosenfeld-weingaerten-suelzlehof/
END:VEVENT
END:VCALENDAR