BEGIN:VCALENDAR
VERSION:2.0
PRODID:-//Heimat- und Wanderverein Brittheim e. V. - ECPv6.15.17.1//NONSGML v1.0//EN
CALSCALE:GREGORIAN
METHOD:PUBLISH
X-ORIGINAL-URL:https://www.wanderverein-brittheim.de
X-WR-CALDESC:Veranstaltungen für Heimat- und Wanderverein Brittheim e. V.
REFRESH-INTERVAL;VALUE=DURATION:PT1H
X-Robots-Tag:noindex
X-PUBLISHED-TTL:PT1H
BEGIN:VTIMEZONE
TZID:Europe/Berlin
BEGIN:DAYLIGHT
TZOFFSETFROM:+0100
TZOFFSETTO:+0200
TZNAME:CEST
DTSTART:20240331T010000
END:DAYLIGHT
BEGIN:STANDARD
TZOFFSETFROM:+0200
TZOFFSETTO:+0100
TZNAME:CET
DTSTART:20241027T010000
END:STANDARD
BEGIN:DAYLIGHT
TZOFFSETFROM:+0100
TZOFFSETTO:+0200
TZNAME:CEST
DTSTART:20250330T010000
END:DAYLIGHT
BEGIN:STANDARD
TZOFFSETFROM:+0200
TZOFFSETTO:+0100
TZNAME:CET
DTSTART:20251026T010000
END:STANDARD
BEGIN:DAYLIGHT
TZOFFSETFROM:+0100
TZOFFSETTO:+0200
TZNAME:CEST
DTSTART:20260329T010000
END:DAYLIGHT
BEGIN:STANDARD
TZOFFSETFROM:+0200
TZOFFSETTO:+0100
TZNAME:CET
DTSTART:20261025T010000
END:STANDARD
END:VTIMEZONE
BEGIN:VEVENT
DTSTART;VALUE=DATE:20251109
DTEND;VALUE=DATE:20251110
DTSTAMP:20260420T233226
CREATED:20250418T141227Z
LAST-MODIFIED:20251031T125501Z
UID:197-1762646400-1762732799@www.wanderverein-brittheim.de
SUMMARY:09.11.2025 - Abschlusswanderung
DESCRIPTION:Abschlusswanderung am Sonntag\, 09.11.2025 \nDie diesjährige Abschlusswanderung machen wir am Sonntag\, 09.11.2025 \nStartpunkt der Wanderung ist Endingen. Die „Bronnhaupter Runde“ ist eine leichte Wanderung und ca. ca. 7 km lang.\nDie Wanderzeit beträgt ca. zwei Stunden\nTreffpunkt ist um 13:00 Uhr beim Bürgerhaus Brittheim.\nDie Abschlusseinkehr findet im Gasthaus Unser Lamm Va Bene in Bickelsberg statt. \nWanderführer Hans-Georg Irion
URL:https://www.wanderverein-brittheim.de/event/02-11-2025-abschlusswanderung/
END:VEVENT
BEGIN:VEVENT
DTSTART;VALUE=DATE:20251129
DTEND;VALUE=DATE:20251130
DTSTAMP:20260420T233226
CREATED:20250418T141253Z
LAST-MODIFIED:20251123T174528Z
UID:199-1764374400-1764460799@www.wanderverein-brittheim.de
SUMMARY:29.11.2025 - Weihnachtsbacken
DESCRIPTION:Backen mit Kindern am 29.11.2025 \nAm Samstag 29.11.2025 wollen wir wieder mit Kindern Weihnachtsgebäck backen.\nBeginn ist um 14:00 Uhr in der Lehrküche der Iselinschule Rosenfeld.\nWer die Möglichkeit hat\, kann eigene Ausstechformen und ein Nudelholz mitbringen.\nTreffpunkt: 29.11.2025 14:00 Uhr bei der Iselinschule Rosenfeld.\nWir freuen uns auf euch.\nAnja und Beate
URL:https://www.wanderverein-brittheim.de/event/29-11-2025-weihnachtsbacken/
END:VEVENT
END:VCALENDAR