BEGIN:VCALENDAR
VERSION:2.0
PRODID:-//Heimat- und Wanderverein Brittheim e. V. - ECPv6.15.17.1//NONSGML v1.0//EN
CALSCALE:GREGORIAN
METHOD:PUBLISH
X-ORIGINAL-URL:https://www.wanderverein-brittheim.de
X-WR-CALDESC:Veranstaltungen für Heimat- und Wanderverein Brittheim e. V.
REFRESH-INTERVAL;VALUE=DURATION:PT1H
X-Robots-Tag:noindex
X-PUBLISHED-TTL:PT1H
BEGIN:VTIMEZONE
TZID:Europe/Berlin
BEGIN:DAYLIGHT
TZOFFSETFROM:+0100
TZOFFSETTO:+0200
TZNAME:CEST
DTSTART:20250330T010000
END:DAYLIGHT
BEGIN:STANDARD
TZOFFSETFROM:+0200
TZOFFSETTO:+0100
TZNAME:CET
DTSTART:20251026T010000
END:STANDARD
BEGIN:DAYLIGHT
TZOFFSETFROM:+0100
TZOFFSETTO:+0200
TZNAME:CEST
DTSTART:20260329T010000
END:DAYLIGHT
BEGIN:STANDARD
TZOFFSETFROM:+0200
TZOFFSETTO:+0100
TZNAME:CET
DTSTART:20261025T010000
END:STANDARD
BEGIN:DAYLIGHT
TZOFFSETFROM:+0100
TZOFFSETTO:+0200
TZNAME:CEST
DTSTART:20270328T010000
END:DAYLIGHT
BEGIN:STANDARD
TZOFFSETFROM:+0200
TZOFFSETTO:+0100
TZNAME:CET
DTSTART:20271031T010000
END:STANDARD
END:VTIMEZONE
BEGIN:VEVENT
DTSTART;VALUE=DATE:20260926
DTEND;VALUE=DATE:20260928
DTSTAMP:20260420T182804
CREATED:20260401T124748Z
LAST-MODIFIED:20260401T124748Z
UID:266-1790380800-1790553599@www.wanderverein-brittheim.de
SUMMARY:Hochgebirgstour 26.und 27.09.2026
DESCRIPTION:Hochgebirgstour 26.und 27.09.2026 \nUnsere Hochgebirgstour führt uns dieses Jahr am 26.+ 27.09.2026 ins Lechtal auf die Göppinger Hütte.\nWir werden am ersten Tag früh morgens nach Zug am Arlberg fahren und noch am selben Tag die Gipfel der Mohnenfluh und der Braunarlspitze erklimmen.\nAnschließend werden wir auf der Göppinger Hütte übernachten.\nAm zweiten Tag wollen wir die Gipfel der Hochlichtspitze und des Johanneskopf erklimmen und nach einer Mittagsrast auf der Göppinger Hütte den Weg zurück ins Tal und anschließend nach Hause antreten.\nAuf der Hütte habe ich vorab schon einmal 10 Schlafplätze gebucht. Falls wir aber mehr werden\, werde ich versuchen diese Plätze noch nach zu buchen.\nFür die Tour ist eine gute Kondition\, Schwindelfreiheit und eine sehr gute Trittsicherheit unerlässlich!\nUm die Tour rechtzeitig fertig planen zu können\, möchte ich euch bitten\, dass ihr euch bis zum Sa. 25.04.2026 bei mir unter Handy: 0173/9924364 anmeldet.\nDie genaue Uhrzeiten zu An- und Abfahrt werde ich dann wie gewohnt zu einem späteren Zeitpunkt bekannt geben. \nEuer Wanderführer\nJörg Hengsteler
URL:https://www.wanderverein-brittheim.de/event/hochgebirgstour-26-und-27-09-2026/
END:VEVENT
END:VCALENDAR